BEGIN:VCALENDAR
VERSION:2.0
PRODID:-//Bridgeclub Baden - ECPv6.15.13//NONSGML v1.0//EN
CALSCALE:GREGORIAN
METHOD:PUBLISH
X-WR-CALNAME:Bridgeclub Baden
X-ORIGINAL-URL:https://bridgeclub-baden.ch
X-WR-CALDESC:Veranstaltungen für Bridgeclub Baden
REFRESH-INTERVAL;VALUE=DURATION:PT1H
X-Robots-Tag:noindex
X-PUBLISHED-TTL:PT1H
BEGIN:VTIMEZONE
TZID:Europe/Zurich
BEGIN:DAYLIGHT
TZOFFSETFROM:+0100
TZOFFSETTO:+0200
TZNAME:CEST
DTSTART:20250330T010000
END:DAYLIGHT
BEGIN:STANDARD
TZOFFSETFROM:+0200
TZOFFSETTO:+0100
TZNAME:CET
DTSTART:20251026T010000
END:STANDARD
BEGIN:DAYLIGHT
TZOFFSETFROM:+0100
TZOFFSETTO:+0200
TZNAME:CEST
DTSTART:20260329T010000
END:DAYLIGHT
BEGIN:STANDARD
TZOFFSETFROM:+0200
TZOFFSETTO:+0100
TZNAME:CET
DTSTART:20261025T010000
END:STANDARD
BEGIN:DAYLIGHT
TZOFFSETFROM:+0100
TZOFFSETTO:+0200
TZNAME:CEST
DTSTART:20270328T010000
END:DAYLIGHT
BEGIN:STANDARD
TZOFFSETFROM:+0200
TZOFFSETTO:+0100
TZNAME:CET
DTSTART:20271031T010000
END:STANDARD
END:VTIMEZONE
BEGIN:VEVENT
DTSTART;TZID=Europe/Zurich:20260321T090000
DTEND;TZID=Europe/Zurich:20260321T180000
DTSTAMP:20260422T185715
CREATED:20260102T195637Z
LAST-MODIFIED:20260414T131638Z
UID:31544-1774083600-1774116000@bridgeclub-baden.ch
SUMMARY:37. Bäderturnier 2026
DESCRIPTION:  \n\n\n\nEinladung zum 37. Bäder-Turnier\n\n\nSamstag\, 21. März 2026\n\n\nSTANDORT  NEU\nLöwenscheune Kloster WettingenKlosterstrasse 22\, 5430 Wettingen\n\n\n\n  \n\n\n\nProgramm\n09:15 Uhr    Kaffee und Gipfeli\, sowie Einschreiben und Platzbezug\n\n\n\n10:00 Uhr    Spielbeginn 1. Sitzung\n13:15 Uhr    Mittagessen\n14:15 Uhr    Spielbeginn 2. Sitzung\n17:30 Uhr    Schlusstrunk und Preisverteilung\n\n\nNenngeld\nCHF 90.– pro Person (Junioren CHF 45.–)\ninkl. Kaffee/Gipfeli\, Mittagessen (ohne Getränke) und Schlusstrunk\n\n\nPreise pro Paar \n \nCHF 300.–\, CHF 240.–\, CHF 160.– für die Ränge 1 bis 3\nCHF 100.– für das beste Paar jedes Clubs (bei Teilnahme von mind. 5 Paaren).\nWeitere Spezialpreise. Die Preise sind nicht kumulierbar.\n\n\nBedingungen \n  \n \nDas Turnier ist für weniger geübte Spieler:Innen gedacht.\nExpertinnen und Experten mit Status Maître National (MN) oder Expert National (EN) gemäss FSB-Webseite\, Klassierung 2024/25\, sind nur mit Nicht-Klassierten Spielenden preisgeldberechtigt. Der Vorstand behält sich vor\, Paare von der Preisgeldberechtigung auszuschliessen.\n\n\nTurnierleitung\nDominik Kettel\n\n\nGrüne Punkte\nNach den Richtlinien des FSB\n\n\n\nAnmeldungen\nBis Freitag\, 13. März 2026\nauf der Website: http://www.bridgeclub-baden.ch\n\n\n\n \nDurch Überweisung des Nenngelds an IBAN CH87 0900 0000 8577 4222 6 lautend auf BRIDGE-CLUB BADEN sind Sie definitiv angemeldet.\n Abmeldungen nach Anmeldeschluss werden mit CHF 50.– in Rechnung gestellt.\nMit Ihrer Anmeldung stimmen Sie einer Publikation der Registrierung auf der Webseite zu.\n\n\n\nDurchführung\nDas Turnier wird bei einer Beteiligung von mind. 40 Paaren durchgeführt.\n\n\nKontakt\nElisabetta de Cesaris\, Tel. 076 570 41 85\, E-Mail: eli@ovi.ch\n\n\n\nAnreise siehe \n \nhttps://www.loewenscheune.ch/kontakt\nDie Löwenscheune ist mit öV leicht erreichbar. Das Parkplatzangebot ist beschränkt\, deshalb empfehlen wir Fahrgemeinschaften. Bei Bedarf stellen wir auch einen Shuttle Service zur Verfügung.
URL:https://bridgeclub-baden.ch/event/37-baederturnier-2026/
LOCATION:Löwenscheune Kloster Wettingen\,  Klosterstrasse 22\, 5430 Wettingen\, Klosterstrasse 22\, Wettingen\, Aargau\, 5430\, Schweiz
CATEGORIES:Bäderturnier,Bäderturnier-Anmeldung,Clubturniere,Jahreskalender,Regionalturniere,Sonstige Turniere
END:VEVENT
END:VCALENDAR