BEGIN:VCALENDAR
VERSION:2.0
PRODID:-//Bridgeclub Baden - ECPv6.15.13//NONSGML v1.0//EN
CALSCALE:GREGORIAN
METHOD:PUBLISH
X-WR-CALNAME:Bridgeclub Baden
X-ORIGINAL-URL:https://bridgeclub-baden.ch
X-WR-CALDESC:Veranstaltungen für Bridgeclub Baden
REFRESH-INTERVAL;VALUE=DURATION:PT1H
X-Robots-Tag:noindex
X-PUBLISHED-TTL:PT1H
BEGIN:VTIMEZONE
TZID:Europe/Zurich
BEGIN:DAYLIGHT
TZOFFSETFROM:+0100
TZOFFSETTO:+0200
TZNAME:CEST
DTSTART:20250330T010000
END:DAYLIGHT
BEGIN:STANDARD
TZOFFSETFROM:+0200
TZOFFSETTO:+0100
TZNAME:CET
DTSTART:20251026T010000
END:STANDARD
BEGIN:DAYLIGHT
TZOFFSETFROM:+0100
TZOFFSETTO:+0200
TZNAME:CEST
DTSTART:20260329T010000
END:DAYLIGHT
BEGIN:STANDARD
TZOFFSETFROM:+0200
TZOFFSETTO:+0100
TZNAME:CET
DTSTART:20261025T010000
END:STANDARD
BEGIN:DAYLIGHT
TZOFFSETFROM:+0100
TZOFFSETTO:+0200
TZNAME:CEST
DTSTART:20270328T010000
END:DAYLIGHT
BEGIN:STANDARD
TZOFFSETFROM:+0200
TZOFFSETTO:+0100
TZNAME:CET
DTSTART:20271031T010000
END:STANDARD
END:VTIMEZONE
BEGIN:VEVENT
DTSTART;TZID=Europe/Zurich:20260723T190000
DTEND;TZID=Europe/Zurich:20260723T220000
DTSTAMP:20260422T143045
CREATED:20251202T143638Z
LAST-MODIFIED:20260208T195020Z
UID:31322-1784833200-1784844000@bridgeclub-baden.ch
SUMMARY:Donnerstagabend Paarturnier 2026
DESCRIPTION:Donnerstagabend Paarturnier
URL:https://bridgeclub-baden.ch/event/donnerstagabend-paarturnier-2026-2026-07-23/
LOCATION:Bridgeclub Baden\, Täfernstrasse 4\, Baden-Dättwil\, 5405\, Schweiz
CATEGORIES:Clubturniere,Donnerstag,Jahreskalender,Sonstige Turniere
END:VEVENT
BEGIN:VEVENT
DTSTART;TZID=Europe/Zurich:20260724T140000
DTEND;TZID=Europe/Zurich:20260724T170000
DTSTAMP:20260422T143045
CREATED:20251202T150610Z
LAST-MODIFIED:20260208T202807Z
UID:31472-1784901600-1784912400@bridgeclub-baden.ch
SUMMARY:Freitagnachmittag\, freie Partie 2026\, wahlweise Miniturnier ab 4 Tischen
DESCRIPTION:Freitagnachmittag\, freie Partie oder Miniturnier für alle\nvon 14:00 – 17:00 Uhr
URL:https://bridgeclub-baden.ch/event/freitagnachmittag-freie-partie-2026-wahlweise-miniturnier-ab-4-tischen-2026-01-16-2026-07-24/
LOCATION:Bridgeclub Baden\, Täfernstrasse 4\, Baden-Dättwil\, 5405\, Schweiz
CATEGORIES:Clubturniere,Freitag,Jahreskalender,Lernen&Spielen
END:VEVENT
BEGIN:VEVENT
DTSTART;TZID=Europe/Zurich:20260727T140000
DTEND;TZID=Europe/Zurich:20260727T170000
DTSTAMP:20260422T143045
CREATED:20251202T142608Z
LAST-MODIFIED:20260208T191739Z
UID:31226-1785160800-1785171600@bridgeclub-baden.ch
SUMMARY:Montagnachmittag Paarturnier 2026
DESCRIPTION:Montagnachmittag Paarturnier
URL:https://bridgeclub-baden.ch/event/montagnachmittag-paarturnier-2026-2026-07-27/
LOCATION:Bridgeclub Baden\, Täfernstrasse 4\, Baden-Dättwil\, 5405\, Schweiz
CATEGORIES:Clubturniere,Jahreskalender,Sonstige Turniere
END:VEVENT
BEGIN:VEVENT
DTSTART;TZID=Europe/Zurich:20260728T190000
DTEND;TZID=Europe/Zurich:20260728T220000
DTSTAMP:20260422T143045
CREATED:20251202T144844Z
LAST-MODIFIED:20260227T201146Z
UID:31374-1785265200-1785276000@bridgeclub-baden.ch
SUMMARY:Dienstagabend\, freie Partien 2026
DESCRIPTION:Dienstagabend\, freie Partien
URL:https://bridgeclub-baden.ch/event/dienstagabend-freie-partien-2026-2026-07-28/
LOCATION:Bridgeclub Baden\, Täfernstrasse 4\, Baden-Dättwil\, 5405\, Schweiz
CATEGORIES:Freies und begleitetes Spielen,Jahreskalender,Lernen&Spielen
END:VEVENT
BEGIN:VEVENT
DTSTART;TZID=Europe/Zurich:20260730T190000
DTEND;TZID=Europe/Zurich:20260730T220000
DTSTAMP:20260422T143045
CREATED:20251202T143638Z
LAST-MODIFIED:20260208T195100Z
UID:31323-1785438000-1785448800@bridgeclub-baden.ch
SUMMARY:Donnerstagabend Paarturnier 2026
DESCRIPTION:Donnerstagabend Paarturnier
URL:https://bridgeclub-baden.ch/event/donnerstagabend-paarturnier-2026-2026-07-30/
LOCATION:Bridgeclub Baden\, Täfernstrasse 4\, Baden-Dättwil\, 5405\, Schweiz
CATEGORIES:Clubturniere,Donnerstag,Jahreskalender,Sonstige Turniere
END:VEVENT
BEGIN:VEVENT
DTSTART;TZID=Europe/Zurich:20260731T140000
DTEND;TZID=Europe/Zurich:20260731T170000
DTSTAMP:20260422T143045
CREATED:20251202T150610Z
LAST-MODIFIED:20260208T202857Z
UID:31473-1785506400-1785517200@bridgeclub-baden.ch
SUMMARY:Freitagnachmittag\, freie Partie 2026\, wahlweise Miniturnier ab 4 Tischen
DESCRIPTION:Freitagnachmittag\, freie Partie oder Miniturnier für alle\nvon 14:00 – 17:00 Uhr
URL:https://bridgeclub-baden.ch/event/freitagnachmittag-freie-partie-2026-wahlweise-miniturnier-ab-4-tischen-2026-01-16-2026-07-31/
LOCATION:Bridgeclub Baden\, Täfernstrasse 4\, Baden-Dättwil\, 5405\, Schweiz
CATEGORIES:Clubturniere,Freitag,Jahreskalender,Lernen&Spielen
END:VEVENT
BEGIN:VEVENT
DTSTART;TZID=Europe/Zurich:20260803T140000
DTEND;TZID=Europe/Zurich:20260803T170000
DTSTAMP:20260422T143045
CREATED:20251202T142608Z
LAST-MODIFIED:20260208T191916Z
UID:31227-1785765600-1785776400@bridgeclub-baden.ch
SUMMARY:Montagnachmittag Paarturnier 2026
DESCRIPTION:Montagnachmittag Paarturnier
URL:https://bridgeclub-baden.ch/event/montagnachmittag-paarturnier-2026-2026-08-03/
LOCATION:Bridgeclub Baden\, Täfernstrasse 4\, Baden-Dättwil\, 5405\, Schweiz
CATEGORIES:Clubturniere,Jahreskalender,Sonstige Turniere
END:VEVENT
BEGIN:VEVENT
DTSTART;TZID=Europe/Zurich:20260804T190000
DTEND;TZID=Europe/Zurich:20260804T220000
DTSTAMP:20260422T143045
CREATED:20251202T144844Z
LAST-MODIFIED:20260227T201228Z
UID:31375-1785870000-1785880800@bridgeclub-baden.ch
SUMMARY:Dienstagabend\, freie Partien 2026
DESCRIPTION:Dienstagabend\, freie Partien
URL:https://bridgeclub-baden.ch/event/dienstagabend-freie-partien-2026-2026-08-04/
LOCATION:Bridgeclub Baden\, Täfernstrasse 4\, Baden-Dättwil\, 5405\, Schweiz
CATEGORIES:Freies und begleitetes Spielen,Jahreskalender,Lernen&Spielen
END:VEVENT
BEGIN:VEVENT
DTSTART;TZID=Europe/Zurich:20260806T190000
DTEND;TZID=Europe/Zurich:20260806T220000
DTSTAMP:20260422T143045
CREATED:20251202T143638Z
LAST-MODIFIED:20260208T195140Z
UID:31324-1786042800-1786053600@bridgeclub-baden.ch
SUMMARY:Donnerstagabend Paarturnier 2026
DESCRIPTION:Donnerstagabend Paarturnier
URL:https://bridgeclub-baden.ch/event/donnerstagabend-paarturnier-2026-2026-08-06/
LOCATION:Bridgeclub Baden\, Täfernstrasse 4\, Baden-Dättwil\, 5405\, Schweiz
CATEGORIES:Clubturniere,Donnerstag,Jahreskalender,Sonstige Turniere
END:VEVENT
BEGIN:VEVENT
DTSTART;TZID=Europe/Zurich:20260807T140000
DTEND;TZID=Europe/Zurich:20260807T170000
DTSTAMP:20260422T143045
CREATED:20251202T150610Z
LAST-MODIFIED:20260208T202943Z
UID:31474-1786111200-1786122000@bridgeclub-baden.ch
SUMMARY:Freitagnachmittag\, freie Partie 2026\, wahlweise Miniturnier ab 4 Tischen
DESCRIPTION:Freitagnachmittag\, freie Partie oder Miniturnier für alle\nvon 14:00 – 17:00 Uhr
URL:https://bridgeclub-baden.ch/event/freitagnachmittag-freie-partie-2026-wahlweise-miniturnier-ab-4-tischen-2026-01-16-2026-08-07/
LOCATION:Bridgeclub Baden\, Täfernstrasse 4\, Baden-Dättwil\, 5405\, Schweiz
CATEGORIES:Clubturniere,Freitag,Jahreskalender,Lernen&Spielen
END:VEVENT
BEGIN:VEVENT
DTSTART;TZID=Europe/Zurich:20260810T140000
DTEND;TZID=Europe/Zurich:20260810T170000
DTSTAMP:20260422T143045
CREATED:20251202T142608Z
LAST-MODIFIED:20260208T191958Z
UID:31228-1786370400-1786381200@bridgeclub-baden.ch
SUMMARY:Montagnachmittag Paarturnier 2026
DESCRIPTION:Montagnachmittag Paarturnier
URL:https://bridgeclub-baden.ch/event/montagnachmittag-paarturnier-2026-2026-08-10/
LOCATION:Bridgeclub Baden\, Täfernstrasse 4\, Baden-Dättwil\, 5405\, Schweiz
CATEGORIES:Clubturniere,Jahreskalender,Sonstige Turniere
END:VEVENT
BEGIN:VEVENT
DTSTART;TZID=Europe/Zurich:20260811T190000
DTEND;TZID=Europe/Zurich:20260811T220000
DTSTAMP:20260422T143045
CREATED:20251202T144844Z
LAST-MODIFIED:20260227T201302Z
UID:31376-1786474800-1786485600@bridgeclub-baden.ch
SUMMARY:Dienstagabend\, freie Partien 2026
DESCRIPTION:Dienstagabend\, freie Partien
URL:https://bridgeclub-baden.ch/event/dienstagabend-freie-partien-2026-2026-08-11/
LOCATION:Bridgeclub Baden\, Täfernstrasse 4\, Baden-Dättwil\, 5405\, Schweiz
CATEGORIES:Freies und begleitetes Spielen,Jahreskalender,Lernen&Spielen
END:VEVENT
BEGIN:VEVENT
DTSTART;TZID=Europe/Zurich:20260813T190000
DTEND;TZID=Europe/Zurich:20260813T220000
DTSTAMP:20260422T143045
CREATED:20251202T143638Z
LAST-MODIFIED:20260208T195220Z
UID:31325-1786647600-1786658400@bridgeclub-baden.ch
SUMMARY:Donnerstagabend Paarturnier 2026
DESCRIPTION:Donnerstagabend Paarturnier
URL:https://bridgeclub-baden.ch/event/donnerstagabend-paarturnier-2026-2026-08-13/
LOCATION:Bridgeclub Baden\, Täfernstrasse 4\, Baden-Dättwil\, 5405\, Schweiz
CATEGORIES:Clubturniere,Donnerstag,Jahreskalender,Sonstige Turniere
END:VEVENT
BEGIN:VEVENT
DTSTART;TZID=Europe/Zurich:20260814T140000
DTEND;TZID=Europe/Zurich:20260814T170000
DTSTAMP:20260422T143045
CREATED:20251202T150610Z
LAST-MODIFIED:20260208T203025Z
UID:31475-1786716000-1786726800@bridgeclub-baden.ch
SUMMARY:Freitagnachmittag\, freie Partie 2026\, wahlweise Miniturnier ab 4 Tischen
DESCRIPTION:Freitagnachmittag\, freie Partie oder Miniturnier für alle\nvon 14:00 – 17:00 Uhr
URL:https://bridgeclub-baden.ch/event/freitagnachmittag-freie-partie-2026-wahlweise-miniturnier-ab-4-tischen-2026-01-16-2026-08-14/
LOCATION:Bridgeclub Baden\, Täfernstrasse 4\, Baden-Dättwil\, 5405\, Schweiz
CATEGORIES:Clubturniere,Freitag,Jahreskalender,Lernen&Spielen
END:VEVENT
BEGIN:VEVENT
DTSTART;TZID=Europe/Zurich:20260817T140000
DTEND;TZID=Europe/Zurich:20260817T170000
DTSTAMP:20260422T143045
CREATED:20251202T142608Z
LAST-MODIFIED:20260208T192044Z
UID:31229-1786975200-1786986000@bridgeclub-baden.ch
SUMMARY:Montagnachmittag Paarturnier 2026
DESCRIPTION:Montagnachmittag Paarturnier
URL:https://bridgeclub-baden.ch/event/montagnachmittag-paarturnier-2026-2026-08-17/
LOCATION:Bridgeclub Baden\, Täfernstrasse 4\, Baden-Dättwil\, 5405\, Schweiz
CATEGORIES:Clubturniere,Jahreskalender,Sonstige Turniere
END:VEVENT
BEGIN:VEVENT
DTSTART;TZID=Europe/Zurich:20260818T190000
DTEND;TZID=Europe/Zurich:20260818T220000
DTSTAMP:20260422T143045
CREATED:20251202T144844Z
LAST-MODIFIED:20260227T201337Z
UID:31377-1787079600-1787090400@bridgeclub-baden.ch
SUMMARY:Dienstagabend\, freie Partien 2026
DESCRIPTION:Dienstagabend\, freie Partien
URL:https://bridgeclub-baden.ch/event/dienstagabend-freie-partien-2026-2026-08-18/
LOCATION:Bridgeclub Baden\, Täfernstrasse 4\, Baden-Dättwil\, 5405\, Schweiz
CATEGORIES:Freies und begleitetes Spielen,Jahreskalender,Lernen&Spielen
END:VEVENT
BEGIN:VEVENT
DTSTART;TZID=Europe/Zurich:20260820T190000
DTEND;TZID=Europe/Zurich:20260820T220000
DTSTAMP:20260422T143045
CREATED:20251202T143638Z
LAST-MODIFIED:20260208T195304Z
UID:31326-1787252400-1787263200@bridgeclub-baden.ch
SUMMARY:Donnerstagabend Paarturnier 2026
DESCRIPTION:Donnerstagabend Paarturnier
URL:https://bridgeclub-baden.ch/event/donnerstagabend-paarturnier-2026-2026-08-20/
LOCATION:Bridgeclub Baden\, Täfernstrasse 4\, Baden-Dättwil\, 5405\, Schweiz
CATEGORIES:Clubturniere,Donnerstag,Jahreskalender,Sonstige Turniere
END:VEVENT
BEGIN:VEVENT
DTSTART;TZID=Europe/Zurich:20260821T140000
DTEND;TZID=Europe/Zurich:20260821T170000
DTSTAMP:20260422T143045
CREATED:20251202T150610Z
LAST-MODIFIED:20260208T203107Z
UID:31476-1787320800-1787331600@bridgeclub-baden.ch
SUMMARY:Freitagnachmittag\, freie Partie 2026\, wahlweise Miniturnier ab 4 Tischen
DESCRIPTION:Freitagnachmittag\, freie Partie oder Miniturnier für alle\nvon 14:00 – 17:00 Uhr
URL:https://bridgeclub-baden.ch/event/freitagnachmittag-freie-partie-2026-wahlweise-miniturnier-ab-4-tischen-2026-01-16-2026-08-21/
LOCATION:Bridgeclub Baden\, Täfernstrasse 4\, Baden-Dättwil\, 5405\, Schweiz
CATEGORIES:Clubturniere,Freitag,Jahreskalender,Lernen&Spielen
END:VEVENT
BEGIN:VEVENT
DTSTART;TZID=Europe/Zurich:20260824T140000
DTEND;TZID=Europe/Zurich:20260824T170000
DTSTAMP:20260422T143045
CREATED:20251202T142608Z
LAST-MODIFIED:20260208T192134Z
UID:31230-1787580000-1787590800@bridgeclub-baden.ch
SUMMARY:Montagnachmittag Paarturnier 2026
DESCRIPTION:Montagnachmittag Paarturnier
URL:https://bridgeclub-baden.ch/event/montagnachmittag-paarturnier-2026-2026-08-24/
LOCATION:Bridgeclub Baden\, Täfernstrasse 4\, Baden-Dättwil\, 5405\, Schweiz
CATEGORIES:Clubturniere,Jahreskalender,Sonstige Turniere
END:VEVENT
BEGIN:VEVENT
DTSTART;TZID=Europe/Zurich:20260825T190000
DTEND;TZID=Europe/Zurich:20260825T220000
DTSTAMP:20260422T143045
CREATED:20251202T144844Z
LAST-MODIFIED:20260202T083833Z
UID:31378-1787684400-1787695200@bridgeclub-baden.ch
SUMMARY:Dienstagabend\, freie Partien 2026
DESCRIPTION:Dienstagabend\, freie Partien
URL:https://bridgeclub-baden.ch/event/dienstagabend-freie-partien-2026-2026-08-25/
LOCATION:Bridgeclub Baden\, Täfernstrasse 4\, Baden-Dättwil\, 5405\, Schweiz
CATEGORIES:Freies und begleitetes Spielen,Jahreskalender,Lernen&Spielen
END:VEVENT
BEGIN:VEVENT
DTSTART;TZID=Europe/Zurich:20260827T190000
DTEND;TZID=Europe/Zurich:20260827T223000
DTSTAMP:20260422T143045
CREATED:20251215T192030Z
LAST-MODIFIED:20260414T140020Z
UID:31672-1787857200-1787869800@bridgeclub-baden.ch
SUMMARY:9. BCB Team - Meisterschaft 2026
DESCRIPTION:Einladung zur 9. BCB Team-Meisterschaft 2026 \nNeu: Obligatorische Teilnahme an allen Daten. Alle Teams melden ihre Aufstellung online bis Dienstagabend vor dem Turnier an! Kapitän stellt dies sicher. \nWer nicht teilnehmen kann organisiert einen Ersatzspieler und trägt dies Online nach. Erika Müller hilft in Ausnahmefällen bei der Suche nach Ersatz (erikamueller@bluewin.ch) \nDas Echo der durchgeführten BCB Team-Meisterschaften ist nach wie vor sehr gut\, weshalb es uns eine Freude ist\, diese interne Team-Meisterschaft auch im 2026 anzubieten. \nZiele:  \n\nFörderung von weiteren Teams im Club für den Interclub-Wettbewerb oder aus Freude am faszinierenden und spanenden Teamspiel\nMöglichkeit für weniger erfahrene Spieler:Innen\, Team-Erfahrung zu sammeln\n\nModus:  \n\n8 Teams können berücksichtigt werden. Jedes Team besteht aus 4 Spieler:Innen. Ein/e Ersatz-Spieler:In kann bis 4 Stunden vor dem Spiel nachgemeldet werden. Pro Team übernimmt ein/e Spieler:In die Funktion des Captains.\nNeuer Modus: Es werden insgesamt 8 Runden (Spieltage) gespielt\, in drei Phasen:\n\nQualifikation: 4 Runden Qualifikationsturnier\, jeder gegen jeden\, 4 Boards pro Gegner und Abend. Je 28 Boards. In dieser Phase besteht die Möglichkeit\, ein Gast-Team als\n9. Team aufzunehmen. Bitte rechtzeitig (bis Dienstag) online eintragen.\nGruppenphase: Die ersten 4 Teams der Qualifikation bilden Gruppe A\, die anderen Gruppe B. In den Gruppen A & B spielt jede/r gegen jede/n. Je 26 Boards\nFinale: Am letzten Datum spielen nochmals in jeder Gruppe das erst- und zweitplatzierte Team um den Gruppensieg\, sowie der 3. und 4. Platz um die Bronzemedaille. Je 28 Boards\nCarry-Over: Die vollen IMP werden von der Qualifikationsphase zur Gruppenphase übertragen. Das IMP-Carry-Over zum Finale entspricht der Hälfte der IMP-Differenz des direkten Matchs der Gruppenphase\, jedoch maximal 7 IMP\n\n\nDie Anmeldung erfolgt paarweise oder als Team\nDie Resultate werden in der sogenannten 20 Punkte-Skala gerechnet und nach jeder Runde addiert. Sieger ist jene Mannschaft\, die das Finale der Gruppe A gewinnt.\nDa gleichzeitig auch ein Paar-Ranking geführt wird\, gibt es auch an diesem Donnerstag ein Sieger-Paar (IMP accross the board-Wertung). Die Spieler der siegreichen Teams werden nach jedem Team-Spiel-Tag mit grünen Punkten belohnt.\nSollte ein oder mehrere Teams an einem Abend ausfallen\, so wird mit den anwesenden Teams im Modus «Alle gegen Alle» gespielt. Das fehlende Team erhält beim ersten Fehlen 8 Siegpunkte\, beim zweiten fehlen (oder beim Fehlen in der Letzten Runde) keine Siegpunkte.\n\nSpezielles: \n\nZeitpunkt:    Donnerstagabend 19:00 Uhr im Clublokal\n                Daten:  29.1./26.2./26.3./30.4./28.5./25.6./27.8./24.9.2026\nAlle Matches werden mit gleichen Karten gespielt und via Bridgemates geführt\nTischgeld 8.– für Clubmitglieder\, Fr. 12.– für Gäste\nPreise Grüne Punkte für siegreiche Teams und Sieger-Bons wie üblich\nSpezialpreise Finalisten Gruppe A sowie Sieger Gruppe B am Adventsturnier 2026
URL:https://bridgeclub-baden.ch/event/9-bcb-team-meisterschaft-2026-2026-02-26-2026-08-27/2026-08-27/
LOCATION:Bridgeclub Baden\, Täfernstrasse 4\, Baden-Dättwil\, 5405\, Schweiz
CATEGORIES:Clubturniere,Donnerstag,Jahreskalender,Sonstige Turniere
END:VEVENT
BEGIN:VEVENT
DTSTART;TZID=Europe/Zurich:20260828T140000
DTEND;TZID=Europe/Zurich:20260828T170000
DTSTAMP:20260422T143045
CREATED:20251202T150610Z
LAST-MODIFIED:20260208T203146Z
UID:31477-1787925600-1787936400@bridgeclub-baden.ch
SUMMARY:Freitagnachmittag\, freie Partie 2026\, wahlweise Miniturnier ab 4 Tischen
DESCRIPTION:Freitagnachmittag\, freie Partie oder Miniturnier für alle\nvon 14:00 – 17:00 Uhr
URL:https://bridgeclub-baden.ch/event/freitagnachmittag-freie-partie-2026-wahlweise-miniturnier-ab-4-tischen-2026-01-16-2026-08-28/
LOCATION:Bridgeclub Baden\, Täfernstrasse 4\, Baden-Dättwil\, 5405\, Schweiz
CATEGORIES:Clubturniere,Freitag,Jahreskalender,Lernen&Spielen
END:VEVENT
BEGIN:VEVENT
DTSTART;TZID=Europe/Zurich:20260831T140000
DTEND;TZID=Europe/Zurich:20260831T170000
DTSTAMP:20260422T143045
CREATED:20251202T142608Z
LAST-MODIFIED:20260208T192215Z
UID:31231-1788184800-1788195600@bridgeclub-baden.ch
SUMMARY:Montagnachmittag Paarturnier 2026
DESCRIPTION:Montagnachmittag Paarturnier
URL:https://bridgeclub-baden.ch/event/montagnachmittag-paarturnier-2026-2026-08-31/
LOCATION:Bridgeclub Baden\, Täfernstrasse 4\, Baden-Dättwil\, 5405\, Schweiz
CATEGORIES:Clubturniere,Jahreskalender,Sonstige Turniere
END:VEVENT
BEGIN:VEVENT
DTSTART;TZID=Europe/Zurich:20260901T190000
DTEND;TZID=Europe/Zurich:20260901T220000
DTSTAMP:20260422T143045
CREATED:20251202T144844Z
LAST-MODIFIED:20260227T201414Z
UID:31379-1788289200-1788300000@bridgeclub-baden.ch
SUMMARY:Dienstagabend\, freie Partien 2026
DESCRIPTION:Dienstagabend\, freie Partien
URL:https://bridgeclub-baden.ch/event/dienstagabend-freie-partien-2026-2026-09-01/
LOCATION:Bridgeclub Baden\, Täfernstrasse 4\, Baden-Dättwil\, 5405\, Schweiz
CATEGORIES:Freies und begleitetes Spielen,Jahreskalender,Lernen&Spielen
END:VEVENT
BEGIN:VEVENT
DTSTART;TZID=Europe/Zurich:20260903T190000
DTEND;TZID=Europe/Zurich:20260903T220000
DTSTAMP:20260422T143045
CREATED:20251202T143638Z
LAST-MODIFIED:20260208T195350Z
UID:31328-1788462000-1788472800@bridgeclub-baden.ch
SUMMARY:Donnerstagabend Paarturnier 2026
DESCRIPTION:Donnerstagabend Paarturnier
URL:https://bridgeclub-baden.ch/event/donnerstagabend-paarturnier-2026-2026-09-03/
LOCATION:Bridgeclub Baden\, Täfernstrasse 4\, Baden-Dättwil\, 5405\, Schweiz
CATEGORIES:Clubturniere,Donnerstag,Jahreskalender,Sonstige Turniere
END:VEVENT
BEGIN:VEVENT
DTSTART;TZID=Europe/Zurich:20260904T140000
DTEND;TZID=Europe/Zurich:20260904T170000
DTSTAMP:20260422T143045
CREATED:20251202T150610Z
LAST-MODIFIED:20260208T203248Z
UID:31478-1788530400-1788541200@bridgeclub-baden.ch
SUMMARY:Freitagnachmittag\, freie Partie 2026\, wahlweise Miniturnier ab 4 Tischen
DESCRIPTION:Freitagnachmittag\, freie Partie oder Miniturnier für alle\nvon 14:00 – 17:00 Uhr
URL:https://bridgeclub-baden.ch/event/freitagnachmittag-freie-partie-2026-wahlweise-miniturnier-ab-4-tischen-2026-01-16-2026-09-04/
LOCATION:Bridgeclub Baden\, Täfernstrasse 4\, Baden-Dättwil\, 5405\, Schweiz
CATEGORIES:Clubturniere,Freitag,Jahreskalender,Lernen&Spielen
END:VEVENT
BEGIN:VEVENT
DTSTART;TZID=Europe/Zurich:20260907T140000
DTEND;TZID=Europe/Zurich:20260907T170000
DTSTAMP:20260422T143045
CREATED:20251202T142608Z
LAST-MODIFIED:20260208T192359Z
UID:31232-1788789600-1788800400@bridgeclub-baden.ch
SUMMARY:Montagnachmittag Paarturnier 2026
DESCRIPTION:Montagnachmittag Paarturnier
URL:https://bridgeclub-baden.ch/event/montagnachmittag-paarturnier-2026-2026-09-07/
LOCATION:Bridgeclub Baden\, Täfernstrasse 4\, Baden-Dättwil\, 5405\, Schweiz
CATEGORIES:Clubturniere,Jahreskalender,Sonstige Turniere
END:VEVENT
BEGIN:VEVENT
DTSTART;TZID=Europe/Zurich:20260908T190000
DTEND;TZID=Europe/Zurich:20260908T220000
DTSTAMP:20260422T143045
CREATED:20251202T144844Z
LAST-MODIFIED:20260227T201501Z
UID:31380-1788894000-1788904800@bridgeclub-baden.ch
SUMMARY:Dienstagabend\, freie Partien 2026
DESCRIPTION:Dienstagabend\, freie Partien
URL:https://bridgeclub-baden.ch/event/dienstagabend-freie-partien-2026-2026-09-08/
LOCATION:Bridgeclub Baden\, Täfernstrasse 4\, Baden-Dättwil\, 5405\, Schweiz
CATEGORIES:Freies und begleitetes Spielen,Jahreskalender,Lernen&Spielen
END:VEVENT
BEGIN:VEVENT
DTSTART;TZID=Europe/Zurich:20260910T190000
DTEND;TZID=Europe/Zurich:20260910T220000
DTSTAMP:20260422T143045
CREATED:20251202T143638Z
LAST-MODIFIED:20260208T195431Z
UID:31329-1789066800-1789077600@bridgeclub-baden.ch
SUMMARY:Donnerstagabend Paarturnier 2026
DESCRIPTION:Donnerstagabend Paarturnier
URL:https://bridgeclub-baden.ch/event/donnerstagabend-paarturnier-2026-2026-09-10/
LOCATION:Bridgeclub Baden\, Täfernstrasse 4\, Baden-Dättwil\, 5405\, Schweiz
CATEGORIES:Clubturniere,Donnerstag,Jahreskalender,Sonstige Turniere
END:VEVENT
BEGIN:VEVENT
DTSTART;TZID=Europe/Zurich:20260911T140000
DTEND;TZID=Europe/Zurich:20260911T170000
DTSTAMP:20260422T143045
CREATED:20251202T150610Z
LAST-MODIFIED:20260208T203334Z
UID:31479-1789135200-1789146000@bridgeclub-baden.ch
SUMMARY:Freitagnachmittag\, freie Partie 2026\, wahlweise Miniturnier ab 4 Tischen
DESCRIPTION:Freitagnachmittag\, freie Partie oder Miniturnier für alle\nvon 14:00 – 17:00 Uhr
URL:https://bridgeclub-baden.ch/event/freitagnachmittag-freie-partie-2026-wahlweise-miniturnier-ab-4-tischen-2026-01-16-2026-09-11/
LOCATION:Bridgeclub Baden\, Täfernstrasse 4\, Baden-Dättwil\, 5405\, Schweiz
CATEGORIES:Clubturniere,Freitag,Jahreskalender,Lernen&Spielen
END:VEVENT
END:VCALENDAR