BEGIN:VCALENDAR
VERSION:2.0
PRODID:-//Bridgeclub Baden - ECPv6.15.13//NONSGML v1.0//EN
CALSCALE:GREGORIAN
METHOD:PUBLISH
X-WR-CALNAME:Bridgeclub Baden
X-ORIGINAL-URL:https://bridgeclub-baden.ch
X-WR-CALDESC:Veranstaltungen für Bridgeclub Baden
REFRESH-INTERVAL;VALUE=DURATION:PT1H
X-Robots-Tag:noindex
X-PUBLISHED-TTL:PT1H
BEGIN:VTIMEZONE
TZID:Europe/Zurich
BEGIN:DAYLIGHT
TZOFFSETFROM:+0100
TZOFFSETTO:+0200
TZNAME:CEST
DTSTART:20250330T010000
END:DAYLIGHT
BEGIN:STANDARD
TZOFFSETFROM:+0200
TZOFFSETTO:+0100
TZNAME:CET
DTSTART:20251026T010000
END:STANDARD
BEGIN:DAYLIGHT
TZOFFSETFROM:+0100
TZOFFSETTO:+0200
TZNAME:CEST
DTSTART:20260329T010000
END:DAYLIGHT
BEGIN:STANDARD
TZOFFSETFROM:+0200
TZOFFSETTO:+0100
TZNAME:CET
DTSTART:20261025T010000
END:STANDARD
BEGIN:DAYLIGHT
TZOFFSETFROM:+0100
TZOFFSETTO:+0200
TZNAME:CEST
DTSTART:20270328T010000
END:DAYLIGHT
BEGIN:STANDARD
TZOFFSETFROM:+0200
TZOFFSETTO:+0100
TZNAME:CET
DTSTART:20271031T010000
END:STANDARD
END:VTIMEZONE
BEGIN:VEVENT
DTSTART;TZID=Europe/Zurich:20261105T190000
DTEND;TZID=Europe/Zurich:20261105T220000
DTSTAMP:20260424T192252
CREATED:20251202T143638Z
LAST-MODIFIED:20260208T195931Z
UID:31337-1793905200-1793916000@bridgeclub-baden.ch
SUMMARY:Donnerstagabend Paarturnier 2026
DESCRIPTION:Donnerstagabend Paarturnier
URL:https://bridgeclub-baden.ch/event/donnerstagabend-paarturnier-2026-2026-11-05/
LOCATION:Bridgeclub Baden\, Täfernstrasse 4\, Baden-Dättwil\, 5405\, Schweiz
CATEGORIES:Clubturniere,Donnerstag,Jahreskalender,Sonstige Turniere
END:VEVENT
BEGIN:VEVENT
DTSTART;TZID=Europe/Zurich:20261106T140000
DTEND;TZID=Europe/Zurich:20261106T170000
DTSTAMP:20260424T192252
CREATED:20251202T150610Z
LAST-MODIFIED:20260208T203859Z
UID:31487-1793973600-1793984400@bridgeclub-baden.ch
SUMMARY:Freitagnachmittag\, freie Partie 2026\, wahlweise Miniturnier ab 4 Tischen
DESCRIPTION:Freitagnachmittag\, freie Partie oder Miniturnier für alle\nvon 14:00 – 17:00 Uhr
URL:https://bridgeclub-baden.ch/event/freitagnachmittag-freie-partie-2026-wahlweise-miniturnier-ab-4-tischen-2026-01-16-2026-11-06/
LOCATION:Bridgeclub Baden\, Täfernstrasse 4\, Baden-Dättwil\, 5405\, Schweiz
CATEGORIES:Clubturniere,Freitag,Jahreskalender,Lernen&Spielen
END:VEVENT
BEGIN:VEVENT
DTSTART;TZID=Europe/Zurich:20261109T140000
DTEND;TZID=Europe/Zurich:20261109T170000
DTSTAMP:20260424T192252
CREATED:20251202T142608Z
LAST-MODIFIED:20260208T192917Z
UID:31241-1794232800-1794243600@bridgeclub-baden.ch
SUMMARY:Montagnachmittag Paarturnier 2026
DESCRIPTION:Montagnachmittag Paarturnier
URL:https://bridgeclub-baden.ch/event/montagnachmittag-paarturnier-2026-2026-10-26-2026-11-09/
LOCATION:Bridgeclub Baden\, Täfernstrasse 4\, Baden-Dättwil\, 5405\, Schweiz
CATEGORIES:Clubturniere,Jahreskalender,Sonstige Turniere
END:VEVENT
BEGIN:VEVENT
DTSTART;TZID=Europe/Zurich:20261109T140000
DTEND;TZID=Europe/Zurich:20261109T170000
DTSTAMP:20260424T192252
CREATED:20251202T142608Z
LAST-MODIFIED:20251202T142608Z
UID:32396-1794232800-1794243600@bridgeclub-baden.ch
SUMMARY:Montagnachmittag Paarturnier 2026
DESCRIPTION:Montagnachmittag Paarturnier
URL:https://bridgeclub-baden.ch/event/montagnachmittag-paarturnier-2026-2026-03-16/2026-11-09/
LOCATION:Bridgeclub Baden\, Täfernstrasse 4\, Baden-Dättwil\, 5405\, Schweiz
CATEGORIES:Clubturniere,Jahreskalender,Sonstige Turniere
END:VEVENT
BEGIN:VEVENT
DTSTART;TZID=Europe/Zurich:20261110T190000
DTEND;TZID=Europe/Zurich:20261110T220000
DTSTAMP:20260424T192252
CREATED:20251202T144844Z
LAST-MODIFIED:20260227T202037Z
UID:31389-1794337200-1794348000@bridgeclub-baden.ch
SUMMARY:Dienstagabend\, freie Partien 2026
DESCRIPTION:Dienstagabend\, freie Partien
URL:https://bridgeclub-baden.ch/event/dienstagabend-freie-partien-2026-2026-11-10/
LOCATION:Bridgeclub Baden\, Täfernstrasse 4\, Baden-Dättwil\, 5405\, Schweiz
CATEGORIES:Freies und begleitetes Spielen,Jahreskalender,Lernen&Spielen
END:VEVENT
BEGIN:VEVENT
DTSTART;TZID=Europe/Zurich:20261112T190000
DTEND;TZID=Europe/Zurich:20261112T220000
DTSTAMP:20260424T192252
CREATED:20251202T143638Z
LAST-MODIFIED:20260208T200014Z
UID:31338-1794510000-1794520800@bridgeclub-baden.ch
SUMMARY:Donnerstagabend Paarturnier 2026
DESCRIPTION:Donnerstagabend Paarturnier
URL:https://bridgeclub-baden.ch/event/donnerstagabend-paarturnier-2026-2026-11-12/
LOCATION:Bridgeclub Baden\, Täfernstrasse 4\, Baden-Dättwil\, 5405\, Schweiz
CATEGORIES:Clubturniere,Donnerstag,Jahreskalender,Sonstige Turniere
END:VEVENT
BEGIN:VEVENT
DTSTART;TZID=Europe/Zurich:20261113T140000
DTEND;TZID=Europe/Zurich:20261113T170000
DTSTAMP:20260424T192252
CREATED:20251202T150610Z
LAST-MODIFIED:20260208T203936Z
UID:31488-1794578400-1794589200@bridgeclub-baden.ch
SUMMARY:Freitagnachmittag\, freie Partie 2026\, wahlweise Miniturnier ab 4 Tischen
DESCRIPTION:Freitagnachmittag\, freie Partie oder Miniturnier für alle\nvon 14:00 – 17:00 Uhr
URL:https://bridgeclub-baden.ch/event/freitagnachmittag-freie-partie-2026-wahlweise-miniturnier-ab-4-tischen-2026-01-16-2026-11-13/
LOCATION:Bridgeclub Baden\, Täfernstrasse 4\, Baden-Dättwil\, 5405\, Schweiz
CATEGORIES:Clubturniere,Freitag,Jahreskalender,Lernen&Spielen
END:VEVENT
BEGIN:VEVENT
DTSTART;TZID=Europe/Zurich:20261116T140000
DTEND;TZID=Europe/Zurich:20261116T170000
DTSTAMP:20260424T192252
CREATED:20251202T142608Z
LAST-MODIFIED:20251202T142608Z
UID:32397-1794837600-1794848400@bridgeclub-baden.ch
SUMMARY:Montagnachmittag Paarturnier 2026
DESCRIPTION:Montagnachmittag Paarturnier
URL:https://bridgeclub-baden.ch/event/montagnachmittag-paarturnier-2026-2026-03-16/2026-11-16/
LOCATION:Bridgeclub Baden\, Täfernstrasse 4\, Baden-Dättwil\, 5405\, Schweiz
CATEGORIES:Clubturniere,Jahreskalender,Sonstige Turniere
END:VEVENT
BEGIN:VEVENT
DTSTART;TZID=Europe/Zurich:20261116T140000
DTEND;TZID=Europe/Zurich:20261116T170000
DTSTAMP:20260424T192252
CREATED:20251202T142608Z
LAST-MODIFIED:20260208T192957Z
UID:31242-1794837600-1794848400@bridgeclub-baden.ch
SUMMARY:Montagnachmittag Paarturnier 2026
DESCRIPTION:Montagnachmittag Paarturnier
URL:https://bridgeclub-baden.ch/event/montagnachmittag-paarturnier-2026-2026-10-26-2026-11-16/
LOCATION:Bridgeclub Baden\, Täfernstrasse 4\, Baden-Dättwil\, 5405\, Schweiz
CATEGORIES:Clubturniere,Jahreskalender,Sonstige Turniere
END:VEVENT
BEGIN:VEVENT
DTSTART;TZID=Europe/Zurich:20261117T190000
DTEND;TZID=Europe/Zurich:20261117T220000
DTSTAMP:20260424T192252
CREATED:20251202T144844Z
LAST-MODIFIED:20260227T202114Z
UID:31390-1794942000-1794952800@bridgeclub-baden.ch
SUMMARY:Dienstagabend\, freie Partien 2026
DESCRIPTION:Dienstagabend\, freie Partien
URL:https://bridgeclub-baden.ch/event/dienstagabend-freie-partien-2026-2026-11-17/
LOCATION:Bridgeclub Baden\, Täfernstrasse 4\, Baden-Dättwil\, 5405\, Schweiz
CATEGORIES:Freies und begleitetes Spielen,Jahreskalender,Lernen&Spielen
END:VEVENT
BEGIN:VEVENT
DTSTART;TZID=Europe/Zurich:20261119T190000
DTEND;TZID=Europe/Zurich:20261119T220000
DTSTAMP:20260424T192252
CREATED:20251202T143638Z
LAST-MODIFIED:20260208T200052Z
UID:31339-1795114800-1795125600@bridgeclub-baden.ch
SUMMARY:Donnerstagabend Paarturnier 2026
DESCRIPTION:Donnerstagabend Paarturnier
URL:https://bridgeclub-baden.ch/event/donnerstagabend-paarturnier-2026-2026-11-19/
LOCATION:Bridgeclub Baden\, Täfernstrasse 4\, Baden-Dättwil\, 5405\, Schweiz
CATEGORIES:Clubturniere,Donnerstag,Jahreskalender,Sonstige Turniere
END:VEVENT
BEGIN:VEVENT
DTSTART;TZID=Europe/Zurich:20261120T140000
DTEND;TZID=Europe/Zurich:20261120T170000
DTSTAMP:20260424T192252
CREATED:20251202T150610Z
LAST-MODIFIED:20260208T204012Z
UID:31489-1795183200-1795194000@bridgeclub-baden.ch
SUMMARY:Freitagnachmittag\, freie Partie 2026\, wahlweise Miniturnier ab 4 Tischen
DESCRIPTION:Freitagnachmittag\, freie Partie oder Miniturnier für alle\nvon 14:00 – 17:00 Uhr
URL:https://bridgeclub-baden.ch/event/freitagnachmittag-freie-partie-2026-wahlweise-miniturnier-ab-4-tischen-2026-01-16-2026-11-20/
LOCATION:Bridgeclub Baden\, Täfernstrasse 4\, Baden-Dättwil\, 5405\, Schweiz
CATEGORIES:Clubturniere,Freitag,Jahreskalender,Lernen&Spielen
END:VEVENT
BEGIN:VEVENT
DTSTART;TZID=Europe/Zurich:20261123T140000
DTEND;TZID=Europe/Zurich:20261123T170000
DTSTAMP:20260424T192252
CREATED:20251202T142608Z
LAST-MODIFIED:20251202T142608Z
UID:32398-1795442400-1795453200@bridgeclub-baden.ch
SUMMARY:Montagnachmittag Paarturnier 2026
DESCRIPTION:Montagnachmittag Paarturnier
URL:https://bridgeclub-baden.ch/event/montagnachmittag-paarturnier-2026-2026-03-16/2026-11-23/
LOCATION:Bridgeclub Baden\, Täfernstrasse 4\, Baden-Dättwil\, 5405\, Schweiz
CATEGORIES:Clubturniere,Jahreskalender,Sonstige Turniere
END:VEVENT
BEGIN:VEVENT
DTSTART;TZID=Europe/Zurich:20261123T140000
DTEND;TZID=Europe/Zurich:20261123T170000
DTSTAMP:20260424T192252
CREATED:20251202T142608Z
LAST-MODIFIED:20260208T193036Z
UID:31243-1795442400-1795453200@bridgeclub-baden.ch
SUMMARY:Montagnachmittag Paarturnier 2026
DESCRIPTION:Montagnachmittag Paarturnier
URL:https://bridgeclub-baden.ch/event/montagnachmittag-paarturnier-2026-2026-10-26-2026-11-23/
LOCATION:Bridgeclub Baden\, Täfernstrasse 4\, Baden-Dättwil\, 5405\, Schweiz
CATEGORIES:Clubturniere,Jahreskalender,Sonstige Turniere
END:VEVENT
BEGIN:VEVENT
DTSTART;TZID=Europe/Zurich:20261124T190000
DTEND;TZID=Europe/Zurich:20261124T220000
DTSTAMP:20260424T192252
CREATED:20251202T144844Z
LAST-MODIFIED:20260227T202158Z
UID:31391-1795546800-1795557600@bridgeclub-baden.ch
SUMMARY:Dienstagabend\, freie Partien 2026
DESCRIPTION:Dienstagabend\, freie Partien
URL:https://bridgeclub-baden.ch/event/dienstagabend-freie-partien-2026-2026-11-24/
LOCATION:Bridgeclub Baden\, Täfernstrasse 4\, Baden-Dättwil\, 5405\, Schweiz
CATEGORIES:Freies und begleitetes Spielen,Jahreskalender,Lernen&Spielen
END:VEVENT
BEGIN:VEVENT
DTSTART;TZID=Europe/Zurich:20261126T190000
DTEND;TZID=Europe/Zurich:20261126T220000
DTSTAMP:20260424T192252
CREATED:20251202T143638Z
LAST-MODIFIED:20260208T200131Z
UID:31340-1795719600-1795730400@bridgeclub-baden.ch
SUMMARY:Donnerstagabend Paarturnier 2026
DESCRIPTION:Donnerstagabend Paarturnier
URL:https://bridgeclub-baden.ch/event/donnerstagabend-paarturnier-2026-2026-11-26/
LOCATION:Bridgeclub Baden\, Täfernstrasse 4\, Baden-Dättwil\, 5405\, Schweiz
CATEGORIES:Clubturniere,Donnerstag,Jahreskalender,Sonstige Turniere
END:VEVENT
BEGIN:VEVENT
DTSTART;TZID=Europe/Zurich:20261127T140000
DTEND;TZID=Europe/Zurich:20261127T170000
DTSTAMP:20260424T192252
CREATED:20251202T150610Z
LAST-MODIFIED:20260208T204049Z
UID:31490-1795788000-1795798800@bridgeclub-baden.ch
SUMMARY:Freitagnachmittag\, freie Partie 2026\, wahlweise Miniturnier ab 4 Tischen
DESCRIPTION:Freitagnachmittag\, freie Partie oder Miniturnier für alle\nvon 14:00 – 17:00 Uhr
URL:https://bridgeclub-baden.ch/event/freitagnachmittag-freie-partie-2026-wahlweise-miniturnier-ab-4-tischen-2026-01-16-2026-11-27/
LOCATION:Bridgeclub Baden\, Täfernstrasse 4\, Baden-Dättwil\, 5405\, Schweiz
CATEGORIES:Clubturniere,Freitag,Jahreskalender,Lernen&Spielen
END:VEVENT
BEGIN:VEVENT
DTSTART;TZID=Europe/Zurich:20261130T140000
DTEND;TZID=Europe/Zurich:20261130T170000
DTSTAMP:20260424T192252
CREATED:20251202T142608Z
LAST-MODIFIED:20260208T193115Z
UID:31244-1796047200-1796058000@bridgeclub-baden.ch
SUMMARY:Montagnachmittag Paarturnier 2026
DESCRIPTION:Montagnachmittag Paarturnier
URL:https://bridgeclub-baden.ch/event/montagnachmittag-paarturnier-2026-2026-10-26-2026-11-30/
LOCATION:Bridgeclub Baden\, Täfernstrasse 4\, Baden-Dättwil\, 5405\, Schweiz
CATEGORIES:Clubturniere,Jahreskalender,Sonstige Turniere
END:VEVENT
BEGIN:VEVENT
DTSTART;TZID=Europe/Zurich:20261130T140000
DTEND;TZID=Europe/Zurich:20261130T170000
DTSTAMP:20260424T192252
CREATED:20251202T142608Z
LAST-MODIFIED:20251202T142608Z
UID:32399-1796047200-1796058000@bridgeclub-baden.ch
SUMMARY:Montagnachmittag Paarturnier 2026
DESCRIPTION:Montagnachmittag Paarturnier
URL:https://bridgeclub-baden.ch/event/montagnachmittag-paarturnier-2026-2026-03-16/2026-11-30/
LOCATION:Bridgeclub Baden\, Täfernstrasse 4\, Baden-Dättwil\, 5405\, Schweiz
CATEGORIES:Clubturniere,Jahreskalender,Sonstige Turniere
END:VEVENT
BEGIN:VEVENT
DTSTART;TZID=Europe/Zurich:20261201T190000
DTEND;TZID=Europe/Zurich:20261201T220000
DTSTAMP:20260424T192252
CREATED:20251202T144844Z
LAST-MODIFIED:20260227T202246Z
UID:31392-1796151600-1796162400@bridgeclub-baden.ch
SUMMARY:Dienstagabend\, freie Partien 2026
DESCRIPTION:Dienstagabend\, freie Partien
URL:https://bridgeclub-baden.ch/event/dienstagabend-freie-partien-2026-2026-12-01/
LOCATION:Bridgeclub Baden\, Täfernstrasse 4\, Baden-Dättwil\, 5405\, Schweiz
CATEGORIES:Freies und begleitetes Spielen,Jahreskalender,Lernen&Spielen
END:VEVENT
BEGIN:VEVENT
DTSTART;TZID=Europe/Zurich:20261203T190000
DTEND;TZID=Europe/Zurich:20261203T220000
DTSTAMP:20260424T192252
CREATED:20251202T143638Z
LAST-MODIFIED:20260208T200211Z
UID:31341-1796324400-1796335200@bridgeclub-baden.ch
SUMMARY:Donnerstagabend Paarturnier 2026
DESCRIPTION:Donnerstagabend Paarturnier
URL:https://bridgeclub-baden.ch/event/donnerstagabend-paarturnier-2026-2026-12-03/
LOCATION:Bridgeclub Baden\, Täfernstrasse 4\, Baden-Dättwil\, 5405\, Schweiz
CATEGORIES:Clubturniere,Donnerstag,Jahreskalender,Sonstige Turniere
END:VEVENT
BEGIN:VEVENT
DTSTART;TZID=Europe/Zurich:20261204T140000
DTEND;TZID=Europe/Zurich:20261204T170000
DTSTAMP:20260424T192252
CREATED:20251202T150610Z
LAST-MODIFIED:20260208T204125Z
UID:31491-1796392800-1796403600@bridgeclub-baden.ch
SUMMARY:Freitagnachmittag\, freie Partie 2026\, wahlweise Miniturnier ab 4 Tischen
DESCRIPTION:Freitagnachmittag\, freie Partie oder Miniturnier für alle\nvon 14:00 – 17:00 Uhr
URL:https://bridgeclub-baden.ch/event/freitagnachmittag-freie-partie-2026-wahlweise-miniturnier-ab-4-tischen-2026-01-16-2026-12-04/
LOCATION:Bridgeclub Baden\, Täfernstrasse 4\, Baden-Dättwil\, 5405\, Schweiz
CATEGORIES:Clubturniere,Freitag,Jahreskalender,Lernen&Spielen
END:VEVENT
BEGIN:VEVENT
DTSTART;TZID=Europe/Zurich:20261207T140000
DTEND;TZID=Europe/Zurich:20261207T170000
DTSTAMP:20260424T192252
CREATED:20251202T142608Z
LAST-MODIFIED:20260208T193150Z
UID:31245-1796652000-1796662800@bridgeclub-baden.ch
SUMMARY:Montagnachmittag Paarturnier 2026
DESCRIPTION:Montagnachmittag Paarturnier
URL:https://bridgeclub-baden.ch/event/montagnachmittag-paarturnier-2026-2026-10-26-2026-12-07/
LOCATION:Bridgeclub Baden\, Täfernstrasse 4\, Baden-Dättwil\, 5405\, Schweiz
CATEGORIES:Clubturniere,Jahreskalender,Sonstige Turniere
END:VEVENT
BEGIN:VEVENT
DTSTART;TZID=Europe/Zurich:20261207T140000
DTEND;TZID=Europe/Zurich:20261207T170000
DTSTAMP:20260424T192252
CREATED:20251202T142608Z
LAST-MODIFIED:20251202T142608Z
UID:32400-1796652000-1796662800@bridgeclub-baden.ch
SUMMARY:Montagnachmittag Paarturnier 2026
DESCRIPTION:Montagnachmittag Paarturnier
URL:https://bridgeclub-baden.ch/event/montagnachmittag-paarturnier-2026-2026-03-16/2026-12-07/
LOCATION:Bridgeclub Baden\, Täfernstrasse 4\, Baden-Dättwil\, 5405\, Schweiz
CATEGORIES:Clubturniere,Jahreskalender,Sonstige Turniere
END:VEVENT
BEGIN:VEVENT
DTSTART;TZID=Europe/Zurich:20261208T190000
DTEND;TZID=Europe/Zurich:20261208T220000
DTSTAMP:20260424T192252
CREATED:20251202T144844Z
LAST-MODIFIED:20260227T202319Z
UID:31393-1796756400-1796767200@bridgeclub-baden.ch
SUMMARY:Dienstagabend\, freie Partien 2026
DESCRIPTION:Dienstagabend\, freie Partien
URL:https://bridgeclub-baden.ch/event/dienstagabend-freie-partien-2026-2026-12-08/
LOCATION:Bridgeclub Baden\, Täfernstrasse 4\, Baden-Dättwil\, 5405\, Schweiz
CATEGORIES:Freies und begleitetes Spielen,Jahreskalender,Lernen&Spielen
END:VEVENT
BEGIN:VEVENT
DTSTART;TZID=Europe/Zurich:20261210T190000
DTEND;TZID=Europe/Zurich:20261210T220000
DTSTAMP:20260424T192252
CREATED:20251202T143638Z
LAST-MODIFIED:20260208T200249Z
UID:31342-1796929200-1796940000@bridgeclub-baden.ch
SUMMARY:Donnerstagabend Paarturnier 2026
DESCRIPTION:Donnerstagabend Paarturnier
URL:https://bridgeclub-baden.ch/event/donnerstagabend-paarturnier-2026-2026-12-10/
LOCATION:Bridgeclub Baden\, Täfernstrasse 4\, Baden-Dättwil\, 5405\, Schweiz
CATEGORIES:Clubturniere,Donnerstag,Jahreskalender,Sonstige Turniere
END:VEVENT
BEGIN:VEVENT
DTSTART;TZID=Europe/Zurich:20261211T140000
DTEND;TZID=Europe/Zurich:20261211T170000
DTSTAMP:20260424T192252
CREATED:20251202T150610Z
LAST-MODIFIED:20260208T204217Z
UID:31492-1796997600-1797008400@bridgeclub-baden.ch
SUMMARY:Freitagnachmittag\, freie Partie 2026\, wahlweise Miniturnier ab 4 Tischen
DESCRIPTION:Freitagnachmittag\, freie Partie oder Miniturnier für alle\nvon 14:00 – 17:00 Uhr
URL:https://bridgeclub-baden.ch/event/freitagnachmittag-freie-partie-2026-wahlweise-miniturnier-ab-4-tischen-2026-01-16-2026-12-11/
LOCATION:Bridgeclub Baden\, Täfernstrasse 4\, Baden-Dättwil\, 5405\, Schweiz
CATEGORIES:Clubturniere,Freitag,Jahreskalender,Lernen&Spielen
END:VEVENT
BEGIN:VEVENT
DTSTART;TZID=Europe/Zurich:20261214T140000
DTEND;TZID=Europe/Zurich:20261214T170000
DTSTAMP:20260424T192252
CREATED:20251202T142608Z
LAST-MODIFIED:20260219T213046Z
UID:31246-1797256800-1797267600@bridgeclub-baden.ch
SUMMARY:Montagnachmittag Paarturnier 2026
DESCRIPTION:Montagnachmittag Paarturnier
URL:https://bridgeclub-baden.ch/event/montagnachmittag-paarturnier-2026-2026-10-26-2026-12-14/
LOCATION:Bridgeclub Baden\, Täfernstrasse 4\, Baden-Dättwil\, 5405\, Schweiz
CATEGORIES:Clubturniere,Jahreskalender,Sonstige Turniere
END:VEVENT
BEGIN:VEVENT
DTSTART;TZID=Europe/Zurich:20261214T140000
DTEND;TZID=Europe/Zurich:20261214T170000
DTSTAMP:20260424T192252
CREATED:20251202T142608Z
LAST-MODIFIED:20251202T142608Z
UID:32401-1797256800-1797267600@bridgeclub-baden.ch
SUMMARY:Montagnachmittag Paarturnier 2026
DESCRIPTION:Montagnachmittag Paarturnier
URL:https://bridgeclub-baden.ch/event/montagnachmittag-paarturnier-2026-2026-03-16/2026-12-14/
LOCATION:Bridgeclub Baden\, Täfernstrasse 4\, Baden-Dättwil\, 5405\, Schweiz
CATEGORIES:Clubturniere,Jahreskalender,Sonstige Turniere
END:VEVENT
BEGIN:VEVENT
DTSTART;TZID=Europe/Zurich:20261215T190000
DTEND;TZID=Europe/Zurich:20261215T220000
DTSTAMP:20260424T192252
CREATED:20251202T144844Z
LAST-MODIFIED:20260227T202356Z
UID:31394-1797361200-1797372000@bridgeclub-baden.ch
SUMMARY:Dienstagabend\, freie Partien 2026
DESCRIPTION:Dienstagabend\, freie Partien
URL:https://bridgeclub-baden.ch/event/dienstagabend-freie-partien-2026-2026-12-15/
LOCATION:Bridgeclub Baden\, Täfernstrasse 4\, Baden-Dättwil\, 5405\, Schweiz
CATEGORIES:Freies und begleitetes Spielen,Jahreskalender,Lernen&Spielen
END:VEVENT
END:VCALENDAR