BEGIN:VCALENDAR
VERSION:2.0
PRODID:-//Bridgeclub Baden - ECPv6.15.13//NONSGML v1.0//EN
CALSCALE:GREGORIAN
METHOD:PUBLISH
X-WR-CALNAME:Bridgeclub Baden
X-ORIGINAL-URL:https://bridgeclub-baden.ch
X-WR-CALDESC:Veranstaltungen für Bridgeclub Baden
REFRESH-INTERVAL;VALUE=DURATION:PT1H
X-Robots-Tag:noindex
X-PUBLISHED-TTL:PT1H
BEGIN:VTIMEZONE
TZID:Europe/Zurich
BEGIN:DAYLIGHT
TZOFFSETFROM:+0100
TZOFFSETTO:+0200
TZNAME:CEST
DTSTART:20250330T010000
END:DAYLIGHT
BEGIN:STANDARD
TZOFFSETFROM:+0200
TZOFFSETTO:+0100
TZNAME:CET
DTSTART:20251026T010000
END:STANDARD
BEGIN:DAYLIGHT
TZOFFSETFROM:+0100
TZOFFSETTO:+0200
TZNAME:CEST
DTSTART:20260329T010000
END:DAYLIGHT
BEGIN:STANDARD
TZOFFSETFROM:+0200
TZOFFSETTO:+0100
TZNAME:CET
DTSTART:20261025T010000
END:STANDARD
BEGIN:DAYLIGHT
TZOFFSETFROM:+0100
TZOFFSETTO:+0200
TZNAME:CEST
DTSTART:20270328T010000
END:DAYLIGHT
BEGIN:STANDARD
TZOFFSETFROM:+0200
TZOFFSETTO:+0100
TZNAME:CET
DTSTART:20271031T010000
END:STANDARD
END:VTIMEZONE
BEGIN:VEVENT
DTSTART;TZID=Europe/Zurich:20261002T140000
DTEND;TZID=Europe/Zurich:20261002T170000
DTSTAMP:20260424T163949
CREATED:20251202T150610Z
LAST-MODIFIED:20260208T203535Z
UID:31482-1790949600-1790960400@bridgeclub-baden.ch
SUMMARY:Freitagnachmittag\, freie Partie 2026\, wahlweise Miniturnier ab 4 Tischen
DESCRIPTION:Freitagnachmittag\, freie Partie oder Miniturnier für alle\nvon 14:00 – 17:00 Uhr
URL:https://bridgeclub-baden.ch/event/freitagnachmittag-freie-partie-2026-wahlweise-miniturnier-ab-4-tischen-2026-01-16-2026-10-02/
LOCATION:Bridgeclub Baden\, Täfernstrasse 4\, Baden-Dättwil\, 5405\, Schweiz
CATEGORIES:Clubturniere,Freitag,Jahreskalender,Lernen&Spielen
END:VEVENT
BEGIN:VEVENT
DTSTART;TZID=Europe/Zurich:20261005T140000
DTEND;TZID=Europe/Zurich:20261005T170000
DTSTAMP:20260424T163949
CREATED:20251202T142608Z
LAST-MODIFIED:20260208T192639Z
UID:31236-1791208800-1791219600@bridgeclub-baden.ch
SUMMARY:Montagnachmittag Paarturnier 2026
DESCRIPTION:Montagnachmittag Paarturnier
URL:https://bridgeclub-baden.ch/event/montagnachmittag-paarturnier-2026-2026-10-05/
LOCATION:Bridgeclub Baden\, Täfernstrasse 4\, Baden-Dättwil\, 5405\, Schweiz
CATEGORIES:Clubturniere,Jahreskalender,Sonstige Turniere
END:VEVENT
BEGIN:VEVENT
DTSTART;TZID=Europe/Zurich:20261006T190000
DTEND;TZID=Europe/Zurich:20261006T220000
DTSTAMP:20260424T163949
CREATED:20251202T144844Z
LAST-MODIFIED:20260227T201724Z
UID:31384-1791313200-1791324000@bridgeclub-baden.ch
SUMMARY:Dienstagabend\, freie Partien 2026
DESCRIPTION:Dienstagabend\, freie Partien
URL:https://bridgeclub-baden.ch/event/dienstagabend-freie-partien-2026-2026-10-06/
LOCATION:Bridgeclub Baden\, Täfernstrasse 4\, Baden-Dättwil\, 5405\, Schweiz
CATEGORIES:Freies und begleitetes Spielen,Jahreskalender,Lernen&Spielen
END:VEVENT
BEGIN:VEVENT
DTSTART;TZID=Europe/Zurich:20261008T190000
DTEND;TZID=Europe/Zurich:20261008T220000
DTSTAMP:20260424T163949
CREATED:20251202T143638Z
LAST-MODIFIED:20260208T195635Z
UID:31333-1791486000-1791496800@bridgeclub-baden.ch
SUMMARY:Donnerstagabend Paarturnier 2026
DESCRIPTION:Donnerstagabend Paarturnier
URL:https://bridgeclub-baden.ch/event/donnerstagabend-paarturnier-2026-2026-10-08/
LOCATION:Bridgeclub Baden\, Täfernstrasse 4\, Baden-Dättwil\, 5405\, Schweiz
CATEGORIES:Clubturniere,Donnerstag,Jahreskalender,Sonstige Turniere
END:VEVENT
BEGIN:VEVENT
DTSTART;TZID=Europe/Zurich:20261009T140000
DTEND;TZID=Europe/Zurich:20261009T170000
DTSTAMP:20260424T163949
CREATED:20251202T150610Z
LAST-MODIFIED:20260208T203618Z
UID:31483-1791554400-1791565200@bridgeclub-baden.ch
SUMMARY:Freitagnachmittag\, freie Partie 2026\, wahlweise Miniturnier ab 4 Tischen
DESCRIPTION:Freitagnachmittag\, freie Partie oder Miniturnier für alle\nvon 14:00 – 17:00 Uhr
URL:https://bridgeclub-baden.ch/event/freitagnachmittag-freie-partie-2026-wahlweise-miniturnier-ab-4-tischen-2026-01-16-2026-10-09/
LOCATION:Bridgeclub Baden\, Täfernstrasse 4\, Baden-Dättwil\, 5405\, Schweiz
CATEGORIES:Clubturniere,Freitag,Jahreskalender,Lernen&Spielen
END:VEVENT
BEGIN:VEVENT
DTSTART;TZID=Europe/Zurich:20261012T140000
DTEND;TZID=Europe/Zurich:20261012T170000
DTSTAMP:20260424T163949
CREATED:20251202T142608Z
LAST-MODIFIED:20260208T192717Z
UID:31237-1791813600-1791824400@bridgeclub-baden.ch
SUMMARY:Montagnachmittag Paarturnier 2026
DESCRIPTION:Montagnachmittag Paarturnier
URL:https://bridgeclub-baden.ch/event/montagnachmittag-paarturnier-2026-2026-10-12/
LOCATION:Bridgeclub Baden\, Täfernstrasse 4\, Baden-Dättwil\, 5405\, Schweiz
CATEGORIES:Clubturniere,Jahreskalender,Sonstige Turniere
END:VEVENT
BEGIN:VEVENT
DTSTART;TZID=Europe/Zurich:20261013T190000
DTEND;TZID=Europe/Zurich:20261013T220000
DTSTAMP:20260424T163949
CREATED:20251202T144844Z
LAST-MODIFIED:20260227T201807Z
UID:31385-1791918000-1791928800@bridgeclub-baden.ch
SUMMARY:Dienstagabend\, freie Partien 2026
DESCRIPTION:Dienstagabend\, freie Partien
URL:https://bridgeclub-baden.ch/event/dienstagabend-freie-partien-2026-2026-10-13/
LOCATION:Bridgeclub Baden\, Täfernstrasse 4\, Baden-Dättwil\, 5405\, Schweiz
CATEGORIES:Freies und begleitetes Spielen,Jahreskalender,Lernen&Spielen
END:VEVENT
BEGIN:VEVENT
DTSTART;TZID=Europe/Zurich:20261015T190000
DTEND;TZID=Europe/Zurich:20261015T220000
DTSTAMP:20260424T163949
CREATED:20251202T143638Z
LAST-MODIFIED:20260208T195730Z
UID:31334-1792090800-1792101600@bridgeclub-baden.ch
SUMMARY:Donnerstagabend Paarturnier 2026
DESCRIPTION:Donnerstagabend Paarturnier
URL:https://bridgeclub-baden.ch/event/donnerstagabend-paarturnier-2026-2026-10-15/
LOCATION:Bridgeclub Baden\, Täfernstrasse 4\, Baden-Dättwil\, 5405\, Schweiz
CATEGORIES:Clubturniere,Donnerstag,Jahreskalender,Sonstige Turniere
END:VEVENT
BEGIN:VEVENT
DTSTART;TZID=Europe/Zurich:20261016T140000
DTEND;TZID=Europe/Zurich:20261016T170000
DTSTAMP:20260424T163949
CREATED:20251202T150610Z
LAST-MODIFIED:20260208T203658Z
UID:31484-1792159200-1792170000@bridgeclub-baden.ch
SUMMARY:Freitagnachmittag\, freie Partie 2026\, wahlweise Miniturnier ab 4 Tischen
DESCRIPTION:Freitagnachmittag\, freie Partie oder Miniturnier für alle\nvon 14:00 – 17:00 Uhr
URL:https://bridgeclub-baden.ch/event/freitagnachmittag-freie-partie-2026-wahlweise-miniturnier-ab-4-tischen-2026-01-16-2026-10-16/
LOCATION:Bridgeclub Baden\, Täfernstrasse 4\, Baden-Dättwil\, 5405\, Schweiz
CATEGORIES:Clubturniere,Freitag,Jahreskalender,Lernen&Spielen
END:VEVENT
BEGIN:VEVENT
DTSTART;TZID=Europe/Zurich:20261019T140000
DTEND;TZID=Europe/Zurich:20261019T170000
DTSTAMP:20260424T163949
CREATED:20251202T142608Z
LAST-MODIFIED:20260208T192757Z
UID:31238-1792418400-1792429200@bridgeclub-baden.ch
SUMMARY:Montagnachmittag Paarturnier 2026
DESCRIPTION:Montagnachmittag Paarturnier
URL:https://bridgeclub-baden.ch/event/montagnachmittag-paarturnier-2026-2026-10-19/
LOCATION:Bridgeclub Baden\, Täfernstrasse 4\, Baden-Dättwil\, 5405\, Schweiz
CATEGORIES:Clubturniere,Jahreskalender,Sonstige Turniere
END:VEVENT
BEGIN:VEVENT
DTSTART;TZID=Europe/Zurich:20261020T190000
DTEND;TZID=Europe/Zurich:20261020T220000
DTSTAMP:20260424T163949
CREATED:20251202T144844Z
LAST-MODIFIED:20260227T201846Z
UID:31386-1792522800-1792533600@bridgeclub-baden.ch
SUMMARY:Dienstagabend\, freie Partien 2026
DESCRIPTION:Dienstagabend\, freie Partien
URL:https://bridgeclub-baden.ch/event/dienstagabend-freie-partien-2026-2026-10-20/
LOCATION:Bridgeclub Baden\, Täfernstrasse 4\, Baden-Dättwil\, 5405\, Schweiz
CATEGORIES:Freies und begleitetes Spielen,Jahreskalender,Lernen&Spielen
END:VEVENT
BEGIN:VEVENT
DTSTART;TZID=Europe/Zurich:20261022T190000
DTEND;TZID=Europe/Zurich:20261022T220000
DTSTAMP:20260424T163949
CREATED:20251202T143638Z
LAST-MODIFIED:20260208T195808Z
UID:31335-1792695600-1792706400@bridgeclub-baden.ch
SUMMARY:Donnerstagabend Paarturnier 2026
DESCRIPTION:Donnerstagabend Paarturnier
URL:https://bridgeclub-baden.ch/event/donnerstagabend-paarturnier-2026-2026-10-22/
LOCATION:Bridgeclub Baden\, Täfernstrasse 4\, Baden-Dättwil\, 5405\, Schweiz
CATEGORIES:Clubturniere,Donnerstag,Jahreskalender,Sonstige Turniere
END:VEVENT
BEGIN:VEVENT
DTSTART;TZID=Europe/Zurich:20261023T140000
DTEND;TZID=Europe/Zurich:20261023T170000
DTSTAMP:20260424T163949
CREATED:20251202T150610Z
LAST-MODIFIED:20260208T203738Z
UID:31485-1792764000-1792774800@bridgeclub-baden.ch
SUMMARY:Freitagnachmittag\, freie Partie 2026\, wahlweise Miniturnier ab 4 Tischen
DESCRIPTION:Freitagnachmittag\, freie Partie oder Miniturnier für alle\nvon 14:00 – 17:00 Uhr
URL:https://bridgeclub-baden.ch/event/freitagnachmittag-freie-partie-2026-wahlweise-miniturnier-ab-4-tischen-2026-01-16-2026-10-23/
LOCATION:Bridgeclub Baden\, Täfernstrasse 4\, Baden-Dättwil\, 5405\, Schweiz
CATEGORIES:Clubturniere,Freitag,Jahreskalender,Lernen&Spielen
END:VEVENT
BEGIN:VEVENT
DTSTART;TZID=Europe/Zurich:20261026T140000
DTEND;TZID=Europe/Zurich:20261026T170000
DTSTAMP:20260424T163949
CREATED:20251202T142608Z
LAST-MODIFIED:20260204T091742Z
UID:31239-1793023200-1793034000@bridgeclub-baden.ch
SUMMARY:Montagnachmittag Paarturnier 2026
DESCRIPTION:Montagnachmittag Paarturnier
URL:https://bridgeclub-baden.ch/event/montagnachmittag-paarturnier-2026-2026-10-26/
LOCATION:Bridgeclub Baden\, Täfernstrasse 4\, Baden-Dättwil\, 5405\, Schweiz
CATEGORIES:Clubturniere,Jahreskalender,Sonstige Turniere
END:VEVENT
BEGIN:VEVENT
DTSTART;TZID=Europe/Zurich:20261026T140000
DTEND;TZID=Europe/Zurich:20261026T170000
DTSTAMP:20260424T163949
CREATED:20251202T142608Z
LAST-MODIFIED:20251202T142608Z
UID:32394-1793023200-1793034000@bridgeclub-baden.ch
SUMMARY:Montagnachmittag Paarturnier 2026
DESCRIPTION:Montagnachmittag Paarturnier
URL:https://bridgeclub-baden.ch/event/montagnachmittag-paarturnier-2026-2026-03-16/2026-10-26/
LOCATION:Bridgeclub Baden\, Täfernstrasse 4\, Baden-Dättwil\, 5405\, Schweiz
CATEGORIES:Clubturniere,Jahreskalender,Sonstige Turniere
END:VEVENT
BEGIN:VEVENT
DTSTART;TZID=Europe/Zurich:20261027T190000
DTEND;TZID=Europe/Zurich:20261027T220000
DTSTAMP:20260424T163949
CREATED:20251202T144844Z
LAST-MODIFIED:20260227T201927Z
UID:31387-1793127600-1793138400@bridgeclub-baden.ch
SUMMARY:Dienstagabend\, freie Partien 2026
DESCRIPTION:Dienstagabend\, freie Partien
URL:https://bridgeclub-baden.ch/event/dienstagabend-freie-partien-2026-2026-10-27/
LOCATION:Bridgeclub Baden\, Täfernstrasse 4\, Baden-Dättwil\, 5405\, Schweiz
CATEGORIES:Freies und begleitetes Spielen,Jahreskalender,Lernen&Spielen
END:VEVENT
BEGIN:VEVENT
DTSTART;TZID=Europe/Zurich:20261029T190000
DTEND;TZID=Europe/Zurich:20261029T220000
DTSTAMP:20260424T163949
CREATED:20251202T143638Z
LAST-MODIFIED:20260208T195845Z
UID:31336-1793300400-1793311200@bridgeclub-baden.ch
SUMMARY:Donnerstagabend Paarturnier 2026
DESCRIPTION:Donnerstagabend Paarturnier
URL:https://bridgeclub-baden.ch/event/donnerstagabend-paarturnier-2026-2026-10-29/
LOCATION:Bridgeclub Baden\, Täfernstrasse 4\, Baden-Dättwil\, 5405\, Schweiz
CATEGORIES:Clubturniere,Donnerstag,Jahreskalender,Sonstige Turniere
END:VEVENT
BEGIN:VEVENT
DTSTART;TZID=Europe/Zurich:20261030T140000
DTEND;TZID=Europe/Zurich:20261030T170000
DTSTAMP:20260424T163949
CREATED:20251202T150610Z
LAST-MODIFIED:20260208T203820Z
UID:31486-1793368800-1793379600@bridgeclub-baden.ch
SUMMARY:Freitagnachmittag\, freie Partie 2026\, wahlweise Miniturnier ab 4 Tischen
DESCRIPTION:Freitagnachmittag\, freie Partie oder Miniturnier für alle\nvon 14:00 – 17:00 Uhr
URL:https://bridgeclub-baden.ch/event/freitagnachmittag-freie-partie-2026-wahlweise-miniturnier-ab-4-tischen-2026-01-16-2026-10-30/
LOCATION:Bridgeclub Baden\, Täfernstrasse 4\, Baden-Dättwil\, 5405\, Schweiz
CATEGORIES:Clubturniere,Freitag,Jahreskalender,Lernen&Spielen
END:VEVENT
BEGIN:VEVENT
DTSTART;TZID=Europe/Zurich:20261102T140000
DTEND;TZID=Europe/Zurich:20261102T170000
DTSTAMP:20260424T163949
CREATED:20251202T142608Z
LAST-MODIFIED:20260208T192839Z
UID:31240-1793628000-1793638800@bridgeclub-baden.ch
SUMMARY:Montagnachmittag Paarturnier 2026
DESCRIPTION:Montagnachmittag Paarturnier
URL:https://bridgeclub-baden.ch/event/montagnachmittag-paarturnier-2026-2026-10-26-2026-11-02/
LOCATION:Bridgeclub Baden\, Täfernstrasse 4\, Baden-Dättwil\, 5405\, Schweiz
CATEGORIES:Clubturniere,Jahreskalender,Sonstige Turniere
END:VEVENT
BEGIN:VEVENT
DTSTART;TZID=Europe/Zurich:20261102T140000
DTEND;TZID=Europe/Zurich:20261102T170000
DTSTAMP:20260424T163949
CREATED:20251202T142608Z
LAST-MODIFIED:20251202T142608Z
UID:32395-1793628000-1793638800@bridgeclub-baden.ch
SUMMARY:Montagnachmittag Paarturnier 2026
DESCRIPTION:Montagnachmittag Paarturnier
URL:https://bridgeclub-baden.ch/event/montagnachmittag-paarturnier-2026-2026-03-16/2026-11-02/
LOCATION:Bridgeclub Baden\, Täfernstrasse 4\, Baden-Dättwil\, 5405\, Schweiz
CATEGORIES:Clubturniere,Jahreskalender,Sonstige Turniere
END:VEVENT
BEGIN:VEVENT
DTSTART;TZID=Europe/Zurich:20261103T190000
DTEND;TZID=Europe/Zurich:20261103T220000
DTSTAMP:20260424T163949
CREATED:20251202T144844Z
LAST-MODIFIED:20260227T202002Z
UID:31388-1793732400-1793743200@bridgeclub-baden.ch
SUMMARY:Dienstagabend\, freie Partien 2026
DESCRIPTION:Dienstagabend\, freie Partien
URL:https://bridgeclub-baden.ch/event/dienstagabend-freie-partien-2026-2026-11-03/
LOCATION:Bridgeclub Baden\, Täfernstrasse 4\, Baden-Dättwil\, 5405\, Schweiz
CATEGORIES:Freies und begleitetes Spielen,Jahreskalender,Lernen&Spielen
END:VEVENT
BEGIN:VEVENT
DTSTART;TZID=Europe/Zurich:20261105T190000
DTEND;TZID=Europe/Zurich:20261105T220000
DTSTAMP:20260424T163949
CREATED:20251202T143638Z
LAST-MODIFIED:20260208T195931Z
UID:31337-1793905200-1793916000@bridgeclub-baden.ch
SUMMARY:Donnerstagabend Paarturnier 2026
DESCRIPTION:Donnerstagabend Paarturnier
URL:https://bridgeclub-baden.ch/event/donnerstagabend-paarturnier-2026-2026-11-05/
LOCATION:Bridgeclub Baden\, Täfernstrasse 4\, Baden-Dättwil\, 5405\, Schweiz
CATEGORIES:Clubturniere,Donnerstag,Jahreskalender,Sonstige Turniere
END:VEVENT
BEGIN:VEVENT
DTSTART;TZID=Europe/Zurich:20261106T140000
DTEND;TZID=Europe/Zurich:20261106T170000
DTSTAMP:20260424T163949
CREATED:20251202T150610Z
LAST-MODIFIED:20260208T203859Z
UID:31487-1793973600-1793984400@bridgeclub-baden.ch
SUMMARY:Freitagnachmittag\, freie Partie 2026\, wahlweise Miniturnier ab 4 Tischen
DESCRIPTION:Freitagnachmittag\, freie Partie oder Miniturnier für alle\nvon 14:00 – 17:00 Uhr
URL:https://bridgeclub-baden.ch/event/freitagnachmittag-freie-partie-2026-wahlweise-miniturnier-ab-4-tischen-2026-01-16-2026-11-06/
LOCATION:Bridgeclub Baden\, Täfernstrasse 4\, Baden-Dättwil\, 5405\, Schweiz
CATEGORIES:Clubturniere,Freitag,Jahreskalender,Lernen&Spielen
END:VEVENT
BEGIN:VEVENT
DTSTART;TZID=Europe/Zurich:20261109T140000
DTEND;TZID=Europe/Zurich:20261109T170000
DTSTAMP:20260424T163949
CREATED:20251202T142608Z
LAST-MODIFIED:20251202T142608Z
UID:32396-1794232800-1794243600@bridgeclub-baden.ch
SUMMARY:Montagnachmittag Paarturnier 2026
DESCRIPTION:Montagnachmittag Paarturnier
URL:https://bridgeclub-baden.ch/event/montagnachmittag-paarturnier-2026-2026-03-16/2026-11-09/
LOCATION:Bridgeclub Baden\, Täfernstrasse 4\, Baden-Dättwil\, 5405\, Schweiz
CATEGORIES:Clubturniere,Jahreskalender,Sonstige Turniere
END:VEVENT
BEGIN:VEVENT
DTSTART;TZID=Europe/Zurich:20261109T140000
DTEND;TZID=Europe/Zurich:20261109T170000
DTSTAMP:20260424T163949
CREATED:20251202T142608Z
LAST-MODIFIED:20260208T192917Z
UID:31241-1794232800-1794243600@bridgeclub-baden.ch
SUMMARY:Montagnachmittag Paarturnier 2026
DESCRIPTION:Montagnachmittag Paarturnier
URL:https://bridgeclub-baden.ch/event/montagnachmittag-paarturnier-2026-2026-10-26-2026-11-09/
LOCATION:Bridgeclub Baden\, Täfernstrasse 4\, Baden-Dättwil\, 5405\, Schweiz
CATEGORIES:Clubturniere,Jahreskalender,Sonstige Turniere
END:VEVENT
BEGIN:VEVENT
DTSTART;TZID=Europe/Zurich:20261110T190000
DTEND;TZID=Europe/Zurich:20261110T220000
DTSTAMP:20260424T163949
CREATED:20251202T144844Z
LAST-MODIFIED:20260227T202037Z
UID:31389-1794337200-1794348000@bridgeclub-baden.ch
SUMMARY:Dienstagabend\, freie Partien 2026
DESCRIPTION:Dienstagabend\, freie Partien
URL:https://bridgeclub-baden.ch/event/dienstagabend-freie-partien-2026-2026-11-10/
LOCATION:Bridgeclub Baden\, Täfernstrasse 4\, Baden-Dättwil\, 5405\, Schweiz
CATEGORIES:Freies und begleitetes Spielen,Jahreskalender,Lernen&Spielen
END:VEVENT
BEGIN:VEVENT
DTSTART;TZID=Europe/Zurich:20261112T190000
DTEND;TZID=Europe/Zurich:20261112T220000
DTSTAMP:20260424T163949
CREATED:20251202T143638Z
LAST-MODIFIED:20260208T200014Z
UID:31338-1794510000-1794520800@bridgeclub-baden.ch
SUMMARY:Donnerstagabend Paarturnier 2026
DESCRIPTION:Donnerstagabend Paarturnier
URL:https://bridgeclub-baden.ch/event/donnerstagabend-paarturnier-2026-2026-11-12/
LOCATION:Bridgeclub Baden\, Täfernstrasse 4\, Baden-Dättwil\, 5405\, Schweiz
CATEGORIES:Clubturniere,Donnerstag,Jahreskalender,Sonstige Turniere
END:VEVENT
BEGIN:VEVENT
DTSTART;TZID=Europe/Zurich:20261113T140000
DTEND;TZID=Europe/Zurich:20261113T170000
DTSTAMP:20260424T163949
CREATED:20251202T150610Z
LAST-MODIFIED:20260208T203936Z
UID:31488-1794578400-1794589200@bridgeclub-baden.ch
SUMMARY:Freitagnachmittag\, freie Partie 2026\, wahlweise Miniturnier ab 4 Tischen
DESCRIPTION:Freitagnachmittag\, freie Partie oder Miniturnier für alle\nvon 14:00 – 17:00 Uhr
URL:https://bridgeclub-baden.ch/event/freitagnachmittag-freie-partie-2026-wahlweise-miniturnier-ab-4-tischen-2026-01-16-2026-11-13/
LOCATION:Bridgeclub Baden\, Täfernstrasse 4\, Baden-Dättwil\, 5405\, Schweiz
CATEGORIES:Clubturniere,Freitag,Jahreskalender,Lernen&Spielen
END:VEVENT
BEGIN:VEVENT
DTSTART;TZID=Europe/Zurich:20261116T140000
DTEND;TZID=Europe/Zurich:20261116T170000
DTSTAMP:20260424T163949
CREATED:20251202T142608Z
LAST-MODIFIED:20251202T142608Z
UID:32397-1794837600-1794848400@bridgeclub-baden.ch
SUMMARY:Montagnachmittag Paarturnier 2026
DESCRIPTION:Montagnachmittag Paarturnier
URL:https://bridgeclub-baden.ch/event/montagnachmittag-paarturnier-2026-2026-03-16/2026-11-16/
LOCATION:Bridgeclub Baden\, Täfernstrasse 4\, Baden-Dättwil\, 5405\, Schweiz
CATEGORIES:Clubturniere,Jahreskalender,Sonstige Turniere
END:VEVENT
BEGIN:VEVENT
DTSTART;TZID=Europe/Zurich:20261116T140000
DTEND;TZID=Europe/Zurich:20261116T170000
DTSTAMP:20260424T163949
CREATED:20251202T142608Z
LAST-MODIFIED:20260208T192957Z
UID:31242-1794837600-1794848400@bridgeclub-baden.ch
SUMMARY:Montagnachmittag Paarturnier 2026
DESCRIPTION:Montagnachmittag Paarturnier
URL:https://bridgeclub-baden.ch/event/montagnachmittag-paarturnier-2026-2026-10-26-2026-11-16/
LOCATION:Bridgeclub Baden\, Täfernstrasse 4\, Baden-Dättwil\, 5405\, Schweiz
CATEGORIES:Clubturniere,Jahreskalender,Sonstige Turniere
END:VEVENT
END:VCALENDAR